Workbook
Name _1Excel_BuiltIn_Print_Area_1: 'Zlecenie produkcyjne'!$A$1:$K$43

Sheet Zlecenie klienta
AI1: Brak | AL1: Brak
AI2: ANTRACYT METALIK 8855 | AL2: Obrzeze 22/1.3 antracyt połysk
AI3: BEŻ CIEMNY (CAPPUCINO) 7368 | AL3: Obrzeze 22/1.3 bialy polysk
AI4: BEŻ METALIK (KUBANIT) 7407 | AL4: Obrzeze 22/1.3 bordo połysk
AI5: BEŻ KREM 7496 | AL5: Obrzeze 22/1.3 cappucino polysk
AI6: BIAŁY 1994 | AL6: Obrzeze 22/1.3 czarny metalik polysk
AI7: BIAŁY POLARNY 1982 | AL7: Obrzeze 22/1.3 czarny polysk
AI8: BORDOWY 3216 | AL8: Obrzeze 22/1.3 czerwony polysk
AI9: CZARNY 8102 | AL9: Obrzeze 22/1.3 szary metalik
AI10: CZARNY METALIK 8378 | AL10: Obrzeże 22/1.3 fiolet połysk
AI11: CZERWONY 3120 | AL11: Obrzeze 22/1.3 kremowy polysk
AI12: SZARY METALIK 8636 | AL12: Obrzeze 22/1.3 połysk kubanit
... AI14: POPIEL 85336 | AL14: Obrzeze 22/1.3 popiel połysk
AL15: Obrzeze 22/1.3 V-NUT biały/inox polysk
F16: Zlecenie wykonania frontów | AL16: Obrzeze 22/1.3 V-NUT czarny/inox polysk
AL17: Obrzeze 22/1.3 V-NUT krem/inox polysk
J19: KOD
J20: NIE dla płyt niemetalizowanych i jednolitych
A21: Rodzaj płyty | C21: Brak
A23: Rodzaj PCV | C23: Brak | I23: STR | J23: Nie
A25: Klient: | H25: Telefon
A27: Data przyjęcia zamówienia | E27: =NOW() -> 41709.853
A29: Lp | B29: Struktura | C29: Wysokość | D29: Oklejanie PCV W1 | E29: Oklejanie PCV W2 | F29: Szerokość | G29: Oklejanie PCV S1 | H29: Oklejanie PCV S2 | I29: Ilość | J29: UWAGI
A30: 1 | B30: =IF($J$23="","",IF($J$23="tak","T","N")) -> N | L30: =ROUND((C30*F30*I30)/1000000,3) -> 0
A31: 2 | B31: =IF($J$23="","",IF($J$23="tak","T","N")) -> N | L31: =ROUND((C31*F31*I31)/1000000,3) -> 0
A32: 3 | B32: =IF($J$23="","",IF($J$23="tak","T","N")) -> N | L32: =ROUND((C32*F32*I32)/1000000,3) -> 0
A33: 4 | B33: =IF($J$23="","",IF($J$23="tak","T","N")) -> N | L33: =ROUND((C33*F33*I33)/1000000,3) -> 0
A34: 5 | B34: =IF($J$23="","",IF($J$23="tak","T","N")) -> N | L34: =ROUND((C34*F34*I34)/1000000,3) -> 0
A35: 6 | B35: =IF($J$23="","",IF($J$23="tak","T","N")) -> N | L35: =ROUND((C35*F35*I35)/1000000,3) -> 0
A36: 7 | B36: =IF($J$23="","",IF($J$23="tak","T","N")) -> N | L36: =ROUND((C36*F36*I36)/1000000,3) -> 0
A37: 8 | B37: =IF($J$23="","",IF($J$23="tak","T","N")) -> N | L37: =ROUND((C37*F37*I37)/1000000,3) -> 0
A38: 9 | B38: =IF($J$23="","",IF($J$23="tak","T","N")) -> N | L38: =ROUND((C38*F38*I38)/1000000,3) -> 0
A39: 10 | B39: =IF($J$23="","",IF($J$23="tak","T","N")) -> N | L39: =ROUND((C39*F39*I39)/1000000,3) -> 0
A40: 11 | B40: =IF($J$23="","",IF($J$23="tak","T","N")) -> N | L40: =ROUND((C40*F40*I40)/1000000,3) -> 0
A41: 12 | B41: =IF($J$23="","",IF($J$23="tak","T","N")) -> N | L41: =ROUND((C41*F41*I41)/1000000,3) -> 0
... A59: 30 | B59: =IF($J$23="","",IF($J$23="tak","T","N")) -> N | L59: =ROUND((C59*F59*I59)/1000000,3) -> 0
B61: Cena netto | C61: 250 | D61: zł/m2 | G61: Ilość frontów | H61: =SUM(I30:I59) -> 0 | J61: szt | L61: =SUM(L30:L59) -> 0
G62: Powierzchnia | H62: =L61 -> 0 | J62: m2
B63: Podpis zamawiającego: | G63: Cena Netto | H63: =H62*C61 -> 0 | J63: zł
G64: Cena Brutto | H64: =H63*1.23 -> 0 | J64: zł

Sheet Zlecenie produkcyjne
B2: KOD Zam | G2: ='Zlecenie klienta'!J21 -> 0
B4: Płyta | D4: ='Zlecenie klienta'!C21 -> Brak
B6: Rodzaj PCV | D6: ='Zlecenie klienta'!C23 -> Brak | H6: Struktura | J6: ='Zlecenie klienta'!J23 -> Nie
B8: Lp | C8: Wysokość | D8: Oklejanie PCV W 1 | E8: Oklejanie PCV W 2 | F8: Szerokość | G8: Oklejanie PCV S 1 | H8: Oklejanie PCV S 2 | I8: Ilość | J8: Opis
B9: 1 | C9: ='Zlecenie klienta'!C30 -> 0 | D9: ='Zlecenie klienta'!D30 -> 0 | E9: ='Zlecenie klienta'!E30 -> 0 | F9: ='Zlecenie klienta'!F30 -> 0 | G9: ='Zlecenie klienta'!G30 -> 0 | H9: ='Zlecenie klienta'!H30 -> 0 | I9: ='Zlecenie klienta'!I30 -> 0 | J9: =CONCATENATE($G$2,"| ",L9) -> 0| 0 | L9: ='Zlecenie klienta'!J30 -> 0
B10: 2 | C10: ='Zlecenie klienta'!C31 -> 0 | D10: ='Zlecenie klienta'!D31 -> 0 | E10: ='Zlecenie klienta'!E31 -> 0 | F10: ='Zlecenie klienta'!F31 -> 0 | G10: ='Zlecenie klienta'!G31 -> 0 | H10: ='Zlecenie klienta'!H31 -> 0 | I10: ='Zlecenie klienta'!I31 -> 0 | J10: =CONCATENATE($G$2,"| ",L10) -> 0| 0 | L10: ='Zlecenie klienta'!J31 -> 0
B11: 3 | C11: ='Zlecenie klienta'!C32 -> 0 | D11: ='Zlecenie klienta'!D32 -> 0 | E11: ='Zlecenie klienta'!E32 -> 0 | F11: ='Zlecenie klienta'!F32 -> 0 | G11: ='Zlecenie klienta'!G32 -> 0 | H11: ='Zlecenie klienta'!H32 -> 0 | I11: ='Zlecenie klienta'!I32 -> 0 | J11: =CONCATENATE($G$2,"| ",L11) -> 0| 0 | L11: ='Zlecenie klienta'!J32 -> 0
B12: 4 | C12: ='Zlecenie klienta'!C33 -> 0 | D12: ='Zlecenie klienta'!D33 -> 0 | E12: ='Zlecenie klienta'!E33 -> 0 | F12: ='Zlecenie klienta'!F33 -> 0 | G12: ='Zlecenie klienta'!G33 -> 0 | H12: ='Zlecenie klienta'!H33 -> 0 | I12: ='Zlecenie klienta'!I33 -> 0 | J12: =CONCATENATE($G$2,"| ",L12) -> 0| 0 | L12: ='Zlecenie klienta'!J33 -> 0
B13: 5 | C13: ='Zlecenie klienta'!C34 -> 0 | D13: ='Zlecenie klienta'!D34 -> 0 | E13: ='Zlecenie klienta'!E34 -> 0 | F13: ='Zlecenie klienta'!F34 -> 0 | G13: ='Zlecenie klienta'!G34 -> 0 | H13: ='Zlecenie klienta'!H34 -> 0 | I13: ='Zlecenie klienta'!I34 -> 0 | J13: =CONCATENATE($G$2,"| ",L13) -> 0| 0 | L13: ='Zlecenie klienta'!J34 -> 0
B14: 6 | C14: ='Zlecenie klienta'!C35 -> 0 | D14: ='Zlecenie klienta'!D35 -> 0 | E14: ='Zlecenie klienta'!E35 -> 0 | F14: ='Zlecenie klienta'!F35 -> 0 | G14: ='Zlecenie klienta'!G35 -> 0 | H14: ='Zlecenie klienta'!H35 -> 0 | I14: ='Zlecenie klienta'!I35 -> 0 | J14: =CONCATENATE($G$2,"| ",L14) -> 0| 0 | L14: ='Zlecenie klienta'!J35 -> 0
B15: 7 | C15: ='Zlecenie klienta'!C36 -> 0 | D15: ='Zlecenie klienta'!D36 -> 0 | E15: ='Zlecenie klienta'!E36 -> 0 | F15: ='Zlecenie klienta'!F36 -> 0 | G15: ='Zlecenie klienta'!G36 -> 0 | H15: ='Zlecenie klienta'!H36 -> 0 | I15: ='Zlecenie klienta'!I36 -> 0 | J15: =CONCATENATE($G$2,"| ",L15) -> 0| 0 | L15: ='Zlecenie klienta'!J36 -> 0
B16: 8 | C16: ='Zlecenie klienta'!C37 -> 0 | D16: ='Zlecenie klienta'!D37 -> 0 | E16: ='Zlecenie klienta'!E37 -> 0 | F16: ='Zlecenie klienta'!F37 -> 0 | G16: ='Zlecenie klienta'!G37 -> 0 | H16: ='Zlecenie klienta'!H37 -> 0 | I16: ='Zlecenie klienta'!I37 -> 0 | J16: =CONCATENATE($G$2,"| ",L16) -> 0| 0 | L16: ='Zlecenie klienta'!J37 -> 0
B17: 9 | C17: ='Zlecenie klienta'!C38 -> 0 | D17: ='Zlecenie klienta'!D38 -> 0 | E17: ='Zlecenie klienta'!E38 -> 0 | F17: ='Zlecenie klienta'!F38 -> 0 | G17: ='Zlecenie klienta'!G38 -> 0 | H17: ='Zlecenie klienta'!H38 -> 0 | I17: ='Zlecenie klienta'!I38 -> 0 | J17: =CONCATENATE($G$2,"| ",L17) -> 0| 0 | L17: ='Zlecenie klienta'!J38 -> 0
B18: 10 | C18: ='Zlecenie klienta'!C39 -> 0 | D18: ='Zlecenie klienta'!D39 -> 0 | E18: ='Zlecenie klienta'!E39 -> 0 | F18: ='Zlecenie klienta'!F39 -> 0 | G18: ='Zlecenie klienta'!G39 -> 0 | H18: ='Zlecenie klienta'!H39 -> 0 | I18: ='Zlecenie klienta'!I39 -> 0 | J18: =CONCATENATE($G$2,"| ",L18) -> 0| 0 | L18: ='Zlecenie klienta'!J39 -> 0
B19: 11 | C19: ='Zlecenie klienta'!C40 -> 0 | D19: ='Zlecenie klienta'!D40 -> 0 | E19: ='Zlecenie klienta'!E40 -> 0 | F19: ='Zlecenie klienta'!F40 -> 0 | G19: ='Zlecenie klienta'!G40 -> 0 | H19: ='Zlecenie klienta'!H40 -> 0 | I19: ='Zlecenie klienta'!I40 -> 0 | J19: =CONCATENATE($G$2,"| ",L19) -> 0| 0 | L19: ='Zlecenie klienta'!J40 -> 0
B20: 12 | C20: ='Zlecenie klienta'!C41 -> 0 | D20: ='Zlecenie klienta'!D41 -> 0 | E20: ='Zlecenie klienta'!E41 -> 0 | F20: ='Zlecenie klienta'!F41 -> 0 | G20: ='Zlecenie klienta'!G41 -> 0 | H20: ='Zlecenie klienta'!H41 -> 0 | I20: ='Zlecenie klienta'!I41 -> 0 | J20: =CONCATENATE($G$2,"| ",L20) -> 0| 0 | L20: ='Zlecenie klienta'!J41 -> 0
... B38: 30 | C38: ='Zlecenie klienta'!C59 -> 0 | D38: ='Zlecenie klienta'!D59 -> 0 | E38: ='Zlecenie klienta'!E59 -> 0 | F38: ='Zlecenie klienta'!F59 -> 0 | G38: ='Zlecenie klienta'!G59 -> 0 | H38: ='Zlecenie klienta'!H59 -> 0 | I38: ='Zlecenie klienta'!I59 -> 0 | J38: =CONCATENATE($G$2,"| ",L38) -> 0| 0 | L38: ='Zlecenie klienta'!J59 -> 0
F40: Ilość frontów | I40: =SUM(I9:I38) -> 0 | J40: szt

Sheet CR
E1: okleina | F1: =VLOOKUP('Zlecenie produkcyjne'!D6,'a2'!C17:D32,2,FALSE) -> #N/A | H1: płyta | I1: =VLOOKUP('Zlecenie produkcyjne'!D4,'a2'!C1:D12,2,FALSE) -> #N/A
B2: kod materiału
A3: opis | B3: płyta | C3: wysokosc | D3: szerokosc | E3: ilosc | F3: struktura | G3: okleina w 1 | H3: okleina w 2 | I3: okleina s 1 | J3: okleina s 2
A4: =IF(E4=" "," ",'Zlecenie produkcyjne'!J9) | B4: =IF('Zlecenie klienta'!C30="","",CR!$I$1) | C4: =IF('Zlecenie produkcyjne'!C9=0," ",'Zlecenie produkcyjne'!C9) | D4: =IF('Zlecenie produkcyjne'!F9=0," ",'Zlecenie produkcyjne'!F9) | E4: =IF('Zlecenie produkcyjne'!I9=0," ",'Zlecenie produkcyjne'!I9) | F4: =IF(E4=" "," ",'Zlecenie klienta'!B30) | G4: =IF('Zlecenie klienta'!D30=1,$F$1," ") | H4: =IF('Zlecenie klienta'!E30=1,$F$1," ") | I4: =IF('Zlecenie klienta'!G30=1,$F$1," ") | J4: =IF('Zlecenie klienta'!H30=1,$F$1," ")
A5: =IF(E5=" "," ",'Zlecenie produkcyjne'!J10) | B5: =IF('Zlecenie klienta'!C31="","",CR!$I$1) | C5: =IF('Zlecenie produkcyjne'!C10=0," ",'Zlecenie produkcyjne'!C10) | D5: =IF('Zlecenie produkcyjne'!F10=0," ",'Zlecenie produkcyjne'!F10) | E5: =IF('Zlecenie produkcyjne'!I10=0," ",'Zlecenie produkcyjne'!I10) | F5: =IF(E5=" "," ",'Zlecenie klienta'!B31) | G5: =IF('Zlecenie klienta'!D31=1,$F$1," ") | H5: =IF('Zlecenie klienta'!E31=1,$F$1," ") | I5: =IF('Zlecenie klienta'!G31=1,$F$1," ") | J5: =IF('Zlecenie klienta'!H31=1,$F$1," ")
A6: =IF(E6=" "," ",'Zlecenie produkcyjne'!J11) | B6: =IF('Zlecenie klienta'!C32="","",CR!$I$1) | C6: =IF('Zlecenie produkcyjne'!C11=0," ",'Zlecenie produkcyjne'!C11) | D6: =IF('Zlecenie produkcyjne'!F11=0," ",'Zlecenie produkcyjne'!F11) | E6: =IF('Zlecenie produkcyjne'!I11=0," ",'Zlecenie produkcyjne'!I11) | F6: =IF(E6=" "," ",'Zlecenie klienta'!B32) | G6: =IF('Zlecenie klienta'!D32=1,$F$1," ") | H6: =IF('Zlecenie klienta'!E32=1,$F$1," ") | I6: =IF('Zlecenie klienta'!G32=1,$F$1," ") | J6: =IF('Zlecenie klienta'!H32=1,$F$1," ")
A7: =IF(E7=" "," ",'Zlecenie produkcyjne'!J12) | B7: =IF('Zlecenie klienta'!C33="","",CR!$I$1) | C7: =IF('Zlecenie produkcyjne'!C12=0," ",'Zlecenie produkcyjne'!C12) | D7: =IF('Zlecenie produkcyjne'!F12=0," ",'Zlecenie produkcyjne'!F12) | E7: =IF('Zlecenie produkcyjne'!I12=0," ",'Zlecenie produkcyjne'!I12) | F7: =IF(E7=" "," ",'Zlecenie klienta'!B33) | G7: =IF('Zlecenie klienta'!D33=1,$F$1," ") | H7: =IF('Zlecenie klienta'!E33=1,$F$1," ") | I7: =IF('Zlecenie klienta'!G33=1,$F$1," ") | J7: =IF('Zlecenie klienta'!H33=1,$F$1," ")
A8: =IF(E8=" "," ",'Zlecenie produkcyjne'!J13) | B8: =IF('Zlecenie klienta'!C34="","",CR!$I$1) | C8: =IF('Zlecenie produkcyjne'!C13=0," ",'Zlecenie produkcyjne'!C13) | D8: =IF('Zlecenie produkcyjne'!F13=0," ",'Zlecenie produkcyjne'!F13) | E8: =IF('Zlecenie produkcyjne'!I13=0," ",'Zlecenie produkcyjne'!I13) | F8: =IF(E8=" "," ",'Zlecenie klienta'!B34) | G8: =IF('Zlecenie klienta'!D34=1,$F$1," ") | H8: =IF('Zlecenie klienta'!E34=1,$F$1," ") | I8: =IF('Zlecenie klienta'!G34=1,$F$1," ") | J8: =IF('Zlecenie klienta'!H34=1,$F$1," ")
A9: =IF(E9=" "," ",'Zlecenie produkcyjne'!J14) | B9: =IF('Zlecenie klienta'!C35="","",CR!$I$1) | C9: =IF('Zlecenie produkcyjne'!C14=0," ",'Zlecenie produkcyjne'!C14) | D9: =IF('Zlecenie produkcyjne'!F14=0," ",'Zlecenie produkcyjne'!F14) | E9: =IF('Zlecenie produkcyjne'!I14=0," ",'Zlecenie produkcyjne'!I14) | F9: =IF(E9=" "," ",'Zlecenie klienta'!B35) | G9: =IF('Zlecenie klienta'!D35=1,$F$1," ") | H9: =IF('Zlecenie klienta'!E35=1,$F$1," ") | I9: =IF('Zlecenie klienta'!G35=1,$F$1," ") | J9: =IF('Zlecenie klienta'!H35=1,$F$1," ")
A10: =IF(E10=" "," ",'Zlecenie produkcyjne'!J15) | B10: =IF('Zlecenie klienta'!C36="","",CR!$I$1) | C10: =IF('Zlecenie produkcyjne'!C15=0," ",'Zlecenie produkcyjne'!C15) | D10: =IF('Zlecenie produkcyjne'!F15=0," ",'Zlecenie produkcyjne'!F15) | E10: =IF('Zlecenie produkcyjne'!I15=0," ",'Zlecenie produkcyjne'!I15) | F10: =IF(E10=" "," ",'Zlecenie klienta'!B36) | G10: =IF('Zlecenie klienta'!D36=1,$F$1," ") | H10: =IF('Zlecenie klienta'!E36=1,$F$1," ") | I10: =IF('Zlecenie klienta'!G36=1,$F$1," ") | J10: =IF('Zlecenie klienta'!H36=1,$F$1," ")
A11: =IF(E11=" "," ",'Zlecenie produkcyjne'!J16) | B11: =IF('Zlecenie klienta'!C37="","",CR!$I$1) | C11: =IF('Zlecenie produkcyjne'!C16=0," ",'Zlecenie produkcyjne'!C16) | D11: =IF('Zlecenie produkcyjne'!F16=0," ",'Zlecenie produkcyjne'!F16) | E11: =IF('Zlecenie produkcyjne'!I16=0," ",'Zlecenie produkcyjne'!I16) | F11: =IF(E11=" "," ",'Zlecenie klienta'!B37) | G11: =IF('Zlecenie klienta'!D37=1,$F$1," ") | H11: =IF('Zlecenie klienta'!E37=1,$F$1," ") | I11: =IF('Zlecenie klienta'!G37=1,$F$1," ") | J11: =IF('Zlecenie klienta'!H37=1,$F$1," ")
A12: =IF(E12=" "," ",'Zlecenie produkcyjne'!J17) | B12: =IF('Zlecenie klienta'!C38="","",CR!$I$1) | C12: =IF('Zlecenie produkcyjne'!C17=0," ",'Zlecenie produkcyjne'!C17) | D12: =IF('Zlecenie produkcyjne'!F17=0," ",'Zlecenie produkcyjne'!F17) | E12: =IF('Zlecenie produkcyjne'!I17=0," ",'Zlecenie produkcyjne'!I17) | F12: =IF(E12=" "," ",'Zlecenie klienta'!B38) | G12: =IF('Zlecenie klienta'!D38=1,$F$1," ") | H12: =IF('Zlecenie klienta'!E38=1,$F$1," ") | I12: =IF('Zlecenie klienta'!G38=1,$F$1," ") | J12: =IF('Zlecenie klienta'!H38=1,$F$1," ")
A13: =IF(E13=" "," ",'Zlecenie produkcyjne'!J18) | B13: =IF('Zlecenie klienta'!C39="","",CR!$I$1) | C13: =IF('Zlecenie produkcyjne'!C18=0," ",'Zlecenie produkcyjne'!C18) | D13: =IF('Zlecenie produkcyjne'!F18=0," ",'Zlecenie produkcyjne'!F18) | E13: =IF('Zlecenie produkcyjne'!I18=0," ",'Zlecenie produkcyjne'!I18) | F13: =IF(E13=" "," ",'Zlecenie klienta'!B39) | G13: =IF('Zlecenie klienta'!D39=1,$F$1," ") | H13: =IF('Zlecenie klienta'!E39=1,$F$1," ") | I13: =IF('Zlecenie klienta'!G39=1,$F$1," ") | J13: =IF('Zlecenie klienta'!H39=1,$F$1," ")
A14: =IF(E14=" "," ",'Zlecenie produkcyjne'!J19) | B14: =IF('Zlecenie klienta'!C40="","",CR!$I$1) | C14: =IF('Zlecenie produkcyjne'!C19=0," ",'Zlecenie produkcyjne'!C19) | D14: =IF('Zlecenie produkcyjne'!F19=0," ",'Zlecenie produkcyjne'!F19) | E14: =IF('Zlecenie produkcyjne'!I19=0," ",'Zlecenie produkcyjne'!I19) | F14: =IF(E14=" "," ",'Zlecenie klienta'!B40) | G14: =IF('Zlecenie klienta'!D40=1,$F$1," ") | H14: =IF('Zlecenie klienta'!E40=1,$F$1," ") | I14: =IF('Zlecenie klienta'!G40=1,$F$1," ") | J14: =IF('Zlecenie klienta'!H40=1,$F$1," ")
A15: =IF(E15=" "," ",'Zlecenie produkcyjne'!J20) | B15: =IF('Zlecenie klienta'!C41="","",CR!$I$1) | C15: =IF('Zlecenie produkcyjne'!C20=0," ",'Zlecenie produkcyjne'!C20) | D15: =IF('Zlecenie produkcyjne'!F20=0," ",'Zlecenie produkcyjne'!F20) | E15: =IF('Zlecenie produkcyjne'!I20=0," ",'Zlecenie produkcyjne'!I20) | F15: =IF(E15=" "," ",'Zlecenie klienta'!B41) | G15: =IF('Zlecenie klienta'!D41=1,$F$1," ") | H15: =IF('Zlecenie klienta'!E41=1,$F$1," ") | I15: =IF('Zlecenie klienta'!G41=1,$F$1," ") | J15: =IF('Zlecenie klienta'!H41=1,$F$1," ")
... A33: =IF(E33=" "," ",'Zlecenie produkcyjne'!J38) | B33: =IF('Zlecenie klienta'!C59="","",CR!$I$1) | C33: =IF('Zlecenie produkcyjne'!C38=0," ",'Zlecenie produkcyjne'!C38) | D33: =IF('Zlecenie produkcyjne'!F38=0," ",'Zlecenie produkcyjne'!F38) | E33: =IF('Zlecenie produkcyjne'!I38=0," ",'Zlecenie produkcyjne'!I38) | F33: =IF(E33=" "," ",'Zlecenie klienta'!B59) | G33: =IF('Zlecenie klienta'!D59=1,$F$1," ") | H33: =IF('Zlecenie klienta'!E59=1,$F$1," ") | I33: =IF('Zlecenie klienta'!G59=1,$F$1," ") | J33: =IF('Zlecenie klienta'!H59=1,$F$1," ")

Sheet a2
C1: ANTRACYT METALIK 8855 | D1: 24-18-62-8855
C2: BEŻ CIEMNY (CAPPUCINO) 7368 | D2: 24-18-62-7368
C3: BEŻ METALIK (KUBANIT) 7407 | D3: 24-18-62-7407
C4: BEŻ KREM 7496 | D4: 24-18-62-7496
C5: BIAŁY 1994 | D5: 24-18-62-1994
C6: BIAŁY POLARNY 1982 | D6: 24-18-62-1982
C7: BORDOWY 3216 | D7: 24-18-62-3216
C8: CZARNY 8102 | D8: 24-18-62-8102
C9: CZARNY METALIK 8378 | D9: 24-18-62-8378
C10: CZERWONY 3120 | D10: 24-18-62-3120
C11: SZARY METALIK 8636 | D11: 24-18-62-8636
C12: VIOLETT 4418 | D12: 24-18-62-4418
C13: POPIEL 85336 | D13: 24-18-62-85336
A15: BEŻ CIEMNY 7368 | D15: =VLOOKUP(A15,C1:D12,2,FALSE) -> #N/A
C17: Obrzeze 22/1.3 antracyt połysk | D17: 25-22/1.3-0880Z
C18: Obrzeze 22/1.3 bialy polysk | D18: 25-22/1.3-1206Z
C19: Obrzeze 22/1.3 bordo połysk | D19: 25-22/1.3-1850Z
C20: Obrzeze 22/1.3 cappucino polysk | D20: 25-22/1.3-0113Z
C21: Obrzeze 22/1.3 czarny metalik polysk | D21: 25-22/1.3-1591E
C22: Obrzeze 22/1.3 czarny polysk | D22: 25-22/1.3-1525Z
C23: Obrzeze 22/1.3 czerwony polysk | D23: 25-22/1.3-1628Z
C24: Obrzeze 22/1.3 szary metalik | D24: 25-22/1.3-142R
C25: Obrzeże 22/1.3 fiolet połysk | D25: 25-22/1.3-77024
C26: Obrzeze 22/1.3 kremowy polysk | D26: 25-22/1.3-1583Z
C27: Obrzeze 22/1.3 połysk kubanit | D27: 25-22/1.3-0435Z
C28: Obrzeze 22/1.3 śnieżnobiały polysk | D28: 25-22/1.3-76264
... C32: Obrzeze 22/1.3 V-NUT krem/inox polysk | D32: 25-22/1.3-1636E
A34: Obrzeze 22/1.3 bordo połysk | D34: =VLOOKUP(A34,C17:D28,2,FALSE) -> 25-22/1.3-1850Z
A35: =IF('Zlecenie klienta'!C63="","",CR!C39&" "&CR!D39&" "&CR!E39&" "&CR!F39&" "&CR!G39&" "&CR!I39&" "&CR!A39&"")
A36: =IF('Zlecenie klienta'!C64="","",CR!C40&" "&CR!D40&" "&CR!E40&" "&CR!F40&" "&CR!G40&" "&CR!I40&" "&CR!A40&"")
A37: =IF('Zlecenie klienta'!C65="","",CR!C41&" "&CR!D41&" "&CR!E41&" "&CR!F41&" "&CR!G41&" "&CR!I41&" "&CR!A41&"")
A38: =IF('Zlecenie klienta'!C66="","",CR!C42&" "&CR!D42&" "&CR!E42&" "&CR!F42&" "&CR!G42&" "&CR!I42&" "&CR!A42&"")
A39: =IF('Zlecenie klienta'!C68="","",CR!C43&" "&CR!D43&" "&CR!E43&" "&CR!F43&" "&CR!G43&" "&CR!I43&" "&CR!A43&"")

Sheet a3
A2: Nr zlecenia | B2: Płyta | C2: PCV | D2: Ilość m2 | E2: Data przyjęcia | F2: Ostateczna data wysyłki | G2: Netto | H2: Brutto
A3: ='Zlecenie klienta'!J21 -> 0 | B3: ='Zlecenie klienta'!C21 -> Brak | C3: ='Zlecenie produkcyjne'!D6 -> Brak | D3: ='Zlecenie klienta'!H62 -> 0 | E3: ='Zlecenie klienta'!F27 -> 0 | F3: =E3+14 -> 14 | G3: ='Zlecenie klienta'!H63 -> 0 | H3: ='Zlecenie klienta'!H64 -> 0
